BEGIN:VCALENDAR
VERSION:2.0
PRODID:-//Florist Marketplace - ECPv6.15.20//NONSGML v1.0//EN
CALSCALE:GREGORIAN
METHOD:PUBLISH
X-WR-CALNAME:Florist Marketplace
X-ORIGINAL-URL:https://floristmarketplace.com
X-WR-CALDESC:Events for Florist Marketplace
REFRESH-INTERVAL;VALUE=DURATION:PT1H
X-Robots-Tag:noindex
X-PUBLISHED-TTL:PT1H
BEGIN:VTIMEZONE
TZID:America/Los_Angeles
BEGIN:DAYLIGHT
TZOFFSETFROM:-0800
TZOFFSETTO:-0700
TZNAME:PDT
DTSTART:20250309T100000
END:DAYLIGHT
BEGIN:STANDARD
TZOFFSETFROM:-0700
TZOFFSETTO:-0800
TZNAME:PST
DTSTART:20251102T090000
END:STANDARD
BEGIN:DAYLIGHT
TZOFFSETFROM:-0800
TZOFFSETTO:-0700
TZNAME:PDT
DTSTART:20260308T100000
END:DAYLIGHT
BEGIN:STANDARD
TZOFFSETFROM:-0700
TZOFFSETTO:-0800
TZNAME:PST
DTSTART:20261101T090000
END:STANDARD
BEGIN:DAYLIGHT
TZOFFSETFROM:-0800
TZOFFSETTO:-0700
TZNAME:PDT
DTSTART:20270314T100000
END:DAYLIGHT
BEGIN:STANDARD
TZOFFSETFROM:-0700
TZOFFSETTO:-0800
TZNAME:PST
DTSTART:20271107T090000
END:STANDARD
END:VTIMEZONE
BEGIN:VEVENT
DTSTART;TZID=America/Los_Angeles:20260220T173000
DTEND;TZID=America/Los_Angeles:20260220T190000
DTSTAMP:20260423T114141
CREATED:20260114T171623Z
LAST-MODIFIED:20260120T164836Z
UID:9127-1771608600-1771614000@floristmarketplace.com
SUMMARY:Spring Centerpiece Workshop
DESCRIPTION:Spring Centerpiece Workshop at Florist Marketplace\, Lake Forest\, CA1 hour 30 minutes\, @ $95.00 (Book Your Seat Below!) \n\n\n\n\n\n\n\nMaster the art of the spring centerpiece in this hands-on workshop\, where you’ll use seasonal flowers to learn contemporary design principles like depth and focal points. \n\n\n\nWe provide all professional tools and a premium vessel for you to create a stunning arrangement to take home\, plus exclusive on-site discounts for attendees.
URL:https://floristmarketplace.com/event/spring-centerpiece-workshop/
LOCATION:Lake Forest Florist Marketplace\, 22821 Lake Forest Dr STE 112\, Lake Forest\, 92630
ORGANIZER;CN="Florist Marketplace":MAILTO:info@floristmarketplace.com
END:VEVENT
END:VCALENDAR